{"text_format":"3","workbook":"xlsx","n_sheets":3,"sheets":["請求書作成方法","フォルテック専用請求書(控)","フォルテック専用請求書(提出)"],"not_rendered":{"macros":1,"defined_names":3},"read":"whole","date_system":"1900"}

{"sheet":"請求書作成方法","index":0,"n_rows":29,"n_cols":9,"rows_kept":29,"merged":[[1,0,1,9],[28,8,28,9]]}
[]
["専用請求書作成注意事項"]
[]
["１．　必ずフォルテック専用請求書（控）のシートより作成してください。"]
["　　　　　※フォルテック専用請求書（提出）のシートは入力できません。"]
["　　　　　※（控）に入力した内容が（提出）側にすべて反映されます。"]
[]
["３．　インボイス発行事業者様は事業者登録番号を必ずご入力ください。"]
[]
["４．　振込先は必ずご入力ください。印刷後、手書きで請求書を作成する場合でも、"]
["　　　振込先をすべてご入力し、印刷後ご記入ください。"]
["　　　　　※振込先を入力しなければ、印刷できない仕様となっております。"]
[]
["５．　御社の住所、会社名欄は印刷後、横判、角印、丸印等ご捺印頂いても構いません。"]
[]
["６．　印刷する際には、フォルテック専用請求書（提出）のシートも合わせて印刷し、"]
["　　　フォルテック専用請求書（提出）のシートを当社へ提出頂きますよう"]
["　　　お願い致します。"]
[]
["７．　請求書の締日は２０日（必着日は２５日まで）"]
["　　　支払日は翌月末日（土日祝の場合はその前日）となっております。"]
["　　　　　※必着日を過ぎて届いた場合、お支払いが翌々月末日となってしまいますので、"]
["　　　　　　ご注意願います。遅延するようでしたら、必着日前にFAX( 011-531-3851 )にて"]
["　　　　　　請求書を送付頂き、後日原本をご提出頂きますようお願い致します。"]
[]
[]
[]
[]
[{"$nulls":8},"2023-05-01"]

{"sheet":"フォルテック専用請求書(控)","index":1,"n_rows":81,"n_cols":52,"rows_kept":81,"merged":[[0,0,0,45],[1,0,2,13],[1,14,2,15],[1,16,2,17],[1,18,2,27],[1,31,1,35],[1,36,1,43],[2,31,2,35],[2,36,2,43],[3,0,3,45],[3,46,4,48],[3,49,4,50],[3,51,4,52],[4,0,4,7],[4,8,4,16],[4,19,4,21],[4,23,4,33],[4,35,4,37],[4,38,4,43],[5,0,5,7],[5,8,5,16],[5,22,5,33],[5,35,5,37],[5,38,5,43],[6,19,6,21],[6,22,6,33],[6,35,6,37],[6,38,6,43],[7,0,7,7],[7,8,7,16],[7,22,7,33],[8,22,8,33],[9,0,10,6],[9,7,10,17],[9,18,10,18],[9,19,10,22],[11,16,11,20],[12,0,12,1],[12,2,12,3],[12,4,12,12],[12,13,12,20],[12,21,12,25],[13,0,13,1],[13,2,13,3],[13,4,13,12],[13,13,13,20],[13,21,13,25],[14,0,14,1],[14,2,14,3],[14,4,14,12],[14,13,14,20],[14,21,14,25],[14,27,14,29],[15,0,15,1],[15,2,15,3],[15,4,15,12],[15,13,15,20],[15,21,15,25],[15,27,15,29],[15,30,15,34],[15,35,15,37],[15,38,15,42],[16,0,16,1],[16,2,16,3],[16,4,16,12],[16,13,16,20],[16,21,16,25],[16,27,16,29],[16,30,16,34],[16,35,16,37],[16,38,16,42],[17,0,17,1],[17,2,17,3],[17,4,17,12],[17,13,17,20],[17,21,17,25],[17,27,17,32],[17,33,17,42],[18,0,18,1],[18,2,18,3],[18,4,18,12],[18,13,18,20],[18,21,18,25],[18,27,18,32],[18,33,18,42],[19,0,19,1],[19,2,19,3],[19,4,19,12],[19,13,19,20],[19,21,19,25],[19,27,19,29],[20,0,20,1],[20,2,20,3],[20,4,20,12],[20,13,20,20],[20,21,20,25],[21,0,21,1],[21,2,21,3],[21,4,21,12],[21,13,21,20],[21,21,21,25],[22,0,22,1],[22,2,22,3],[22,4,22,12],[22,13,22,20],[22,21,22,25],[23,0,23,1],[23,2,23,3],[23,4,23,12],[23,13,23,20],[23,21,23,25],[24,0,24,1],[24,2,24,3],[24,4,24,12],[24,13,24,20],[24,21,24,25],[24,27,24,30],[24,31,24,38],[25,0,25,1],[25,2,25,3],[25,4,25,12],[25,13,25,20],[25,21,25,25],[25,27,25,30],[25,31,25,38],[26,0,26,1],[26,2,26,3],[26,4,26,12],[26,13,26,20],[26,21,26,25],[26,27,26,30],[26,31,26,38],[27,0,27,45],[28,0,29,13],[28,14,29,15],[28,16,29,17],[28,18,29,27],[28,31,28,35],[28,36,28,43],[29,31,29,35],[29,36,29,43],[30,0,30,45],[30,46,31,48],[30,49,31,50],[30,51,31,52],[31,0,31,7],[31,8,31,16],[31,23,31,33],[31,35,31,37],[31,38,31,43],[32,0,32,7],[32,8,32,16],[32,22,32,33],[32,35,32,37],[32,38,32,43],[33,19,33,21],[33,22,33,33],[33,35,33,37],[33,38,33,43],[34,0,34,7],[34,8,34,16],[34,22,34,33],[36,0,37,6],[36,7,37,17],[36,18,37,18],[36,19,37,22],[38,16,38,20],[39,0,39,1],[39,2,39,3],[39,4,39,12],[39,13,39,20],[39,21,39,25],[40,0,40,1],[40,2,40,3],[40,4,40,12],[40,13,40,20],[40,21,40,25],[41,0,41,1],[41,2,41,3],[41,4,41,12],[41,13,41,20],[41,21,41,25],[41,27,41,29],[42,0,42,1],[42,2,42,3],[42,4,42,12],[42,13,42,20],[42,21,42,25],[42,27,42,29],[42,30,42,34],[42,35,42,37],[42,38,42,42],[43,0,43,1],[43,2,43,3],[43,4,43,12],[43,13,43,20],[43,21,43,25],[43,27,43,29],[43,30,43,34],[43,35,43,37],[43,38,43,42],[44,0,44,1],[44,2,44,3],[44,4,44,12],[44,13,44,20],[44,21,44,25],[44,27,44,32],[44,33,44,42],[45,0,45,1],[45,2,45,3],[45,4,45,12],[45,13,45,20],[45,21,45,25],[45,27,45,32],[45,33,45,42],[46,0,46,1],[46,2,46,3],[46,4,46,12],[46,13,46,20],[46,21,46,25],[46,27,46,29],[47,0,47,1],[47,2,47,3],[47,4,47,12],[47,13,47,20],[47,21,47,25],[48,0,48,1],[48,2,48,3],[48,4,48,12],[48,13,48,20],[48,21,48,25],[49,0,49,1],[49,2,49,3],[49,4,49,12],[49,13,49,20],[49,21,49,25],[50,0,50,1],[50,2,50,3],[50,4,50,12],[50,13,50,20],[50,21,50,25],[51,0,51,1],[51,2,51,3],[51,4,51,12],[51,13,51,20],[51,21,51,25],[51,27,51,30],[51,31,51,38],[52,0,52,1],[52,2,52,3],[52,4,52,12],[52,13,52,20],[52,21,52,25],[52,27,52,30],[52,31,52,38],[53,0,53,1],[53,2,53,3],[53,4,53,12],[53,13,53,20],[53,21,53,25],[53,27,53,30],[53,31,53,38],[54,0,54,45],[55,0,56,13],[55,14,56,15],[55,16,56,17],[55,18,56,27],[55,31,55,35],[55,36,55,43],[56,31,56,35],[56,36,56,43],[57,0,57,45],[57,46,58,48],[57,49,58,50],[57,51,58,52],[58,0,58,7],[58,8,58,16],[58,23,58,33],[58,35,58,37],[58,38,58,43],[59,0,59,7],[59,8,59,16],[59,22,59,33],[59,35,59,37],[59,38,59,43],[60,19,60,21],[60,22,60,33],[60,35,60,37],[60,38,60,43],[61,0,61,7],[61,8,61,16],[61,22,61,33],[63,0,64,6],[63,7,64,17],[63,18,64,18],[63,19,64,22],[65,16,65,20],[66,0,66,1],[66,2,66,3],[66,4,66,12],[66,13,66,20],[66,21,66,25],[67,0,67,1],[67,2,67,3],[67,4,67,12],[67,13,67,20],[67,21,67,25],[68,0,68,1],[68,2,68,3],[68,4,68,12],[68,13,68,20],[68,21,68,25],[68,27,68,29],[69,0,69,1],[69,2,69,3],[69,4,69,12],[69,13,69,20],[69,21,69,25],[69,27,69,29],[69,30,69,34],[69,35,69,37],[69,38,69,42],[70,0,70,1],[70,2,70,3],[70,4,70,12],[70,13,70,20],[70,21,70,25],[70,27,70,29],[70,30,70,34],[70,35,70,37],[70,38,70,42],[71,0,71,1],[71,2,71,3],[71,4,71,12],[71,13,71,20],[71,21,71,25],[71,27,71,32],[71,33,71,42],[72,0,72,1],[72,2,72,3],[72,4,72,12],[72,13,72,20],[72,21,72,25],[72,27,72,32],[72,33,72,42],[73,0,73,1],[73,2,73,3],[73,4,73,12],[73,13,73,20],[73,21,73,25],[73,27,73,29],[74,0,74,1],[74,2,74,3],[74,4,74,12],[74,13,74,20],[74,21,74,25],[75,0,75,1],[75,2,75,3],[75,4,75,12],[75,13,75,20],[75,21,75,25],[76,0,76,1],[76,2,76,3],[76,4,76,12],[76,13,76,20],[76,21,76,25],[77,0,77,1],[77,2,77,3],[77,4,77,12],[77,13,77,20],[77,21,77,25],[78,0,78,1],[78,2,78,3],[78,4,78,12],[78,13,78,20],[78,21,78,25],[78,27,78,30],[78,31,78,38],[79,0,79,1],[79,2,79,3],[79,4,79,12],[79,13,79,20],[79,21,79,25],[79,27,79,30],[79,31,79,38],[80,0,80,1],[80,2,80,3],[80,4,80,12],[80,13,80,20],[80,21,80,25],[80,27,80,30],[80,31,80,38]]}
[]
["株式会社　フォルテック",{"$nulls":13},"御中",{"$nulls":3},"御請求書(控)",{"$nulls":12},"事業者登録番号"]
[{"$nulls":31},"請求日"]
[{"$nulls":46},"税率",null,null,10,null,"％"]
["㈱フォルテック工事担当者",{"$nulls":18},"　住所：",null,null,"〒",{"$nulls":12},"TEL :"]
["支払い条件",{"$nulls":34},"FAX :"]
[{"$nulls":19},"会社名：",{"$nulls":15},"担当者 :"]
[]
[]
["合計金額",{"$nulls":6},{"$f":"AF27","v":{"v":0,"d":"¥0"}},{"$nulls":10},{"$f":"IF(H10=\"\",\"\",\"-\")","v":""},{"$f":"IF(AX4=\"\",\"\",\"(税込)\")","v":"(税込)"}]
[]
[{"$nulls":11},{"$f":"IF(AX4=\"\",\"\",\"(内、消費税(10％)\")","v":"(内、消費税(10％)"},{"$nulls":4},{"$f":"AF26","v":{"v":0,"d":"¥0"}},{"$nulls":4},{"$f":"IF(Q12=\"\",\"\",\"－\")","v":""},{"$f":"IF(AX4=\"\",\"\",\")\")","v":")"}]
["日付",null,"工事No.",null,"工事名",{"$nulls":8},"内容",{"$nulls":7},"金額"]
[{"$nulls":45},"インボイス発行事業者様は必ず"]
[{"$nulls":27},"振込先",null,null,"※下記未入力があると印刷できません。",{"$nulls":14},"事業者登録番号を記載してください。"]
[{"$nulls":27},"銀行名",{"$nulls":7},"支店名"]
[{"$nulls":27},"科目",{"$nulls":7},"口座番号"]
[{"$nulls":27},"口座名義フリガナ"]
[{"$nulls":27},"口座名義"]
[]
[]
[]
[]
[]
[{"$nulls":27},"小計",{"$nulls":3},{"$f":"IF(SUM(V14:Z27)+SUM(V41:Z54)+SUM(V68:Z81)=0,\"\",SUM(V14:Z27)+SUM(V41:Z54)+SUM(V68:Z81))","v":""}]
[{"$nulls":27},"消費税",{"$nulls":3},{"$f":"INT(IF(AF25*AX4/100=0,\"\",AF25*AX4/100))","v":{"v":0,"d":"¥0"}}]
[{"$nulls":27},"合計",{"$nulls":3},{"$f":"AF25+AF26","v":{"v":0,"d":"¥0"}}]
[]
["株式会社　フォルテック",{"$nulls":13},"御中",{"$nulls":3},"御請求書(控)",{"$nulls":12},"事業者登録番号"]
[{"$nulls":31},"請求日"]
[]
["㈱フォルテック工事担当者",{"$nulls":18},"　 住所：",null,null,"〒",{"$f":"IF($X$5=\"\",\"\",$X$5)","v":""},{"$nulls":11},"TEL :"]
["支払い条件",{"$nulls":21},{"$f":"IF($W$6=\"\",\"\",$W$6)","v":""},{"$nulls":12},"FAX :"]
[{"$nulls":19},"会社名：",null,null,{"$f":"IF($W$7=\"\",\"\",$W$7)","v":""},{"$nulls":12},"担当者 :"]
[{"$nulls":22},{"$f":"IF($W$8=\"\",\"\",$W$8)","v":""}]
[]
[{"$nulls":18},{"$f":"IF(H37=\"\",\"\",\"-\")","v":""}]
[]
[]
["日付",null,"工事No.",null,"工事名",{"$nulls":8},"内容",{"$nulls":7},"金額"]
[]
[]
[{"$nulls":27},"銀行名",{"$nulls":7},"支店名"]
[{"$nulls":27},"科目",{"$nulls":7},"口座番号"]
[{"$nulls":27},"口座名義フリガナ"]
[{"$nulls":27},"口座名義"]
[]
[]
[]
[]
[]
[{"$nulls":27},"小計"]
[{"$nulls":27},"消費税"]
[{"$nulls":27},"合計"]
[]
["株式会社　フォルテック",{"$nulls":13},"御中",{"$nulls":3},"御請求書(控)",{"$nulls":12},"事業者登録番号"]
[{"$nulls":31},"請求日"]
[]
["㈱フォルテック工事担当者",{"$nulls":18},"　 住所：",null,null,"〒",{"$f":"IF($X$5=\"\",\"\",$X$5)","v":""},{"$nulls":11},"TEL :"]
["支払い条件",{"$nulls":21},{"$f":"IF($W$6=\"\",\"\",$W$6)","v":""},{"$nulls":12},"FAX :"]
[{"$nulls":19},"会社名：",null,null,{"$f":"IF($W$7=\"\",\"\",$W$7)","v":""},{"$nulls":12},"担当者 :"]
[{"$nulls":22},{"$f":"IF($W$8=\"\",\"\",$W$8)","v":""}]
[]
[]
[]
[]
["日付",null,"工事No.",null,"工事名",{"$nulls":8},"内容",{"$nulls":7},"金額"]
[]
[]
[{"$nulls":27},"銀行名",{"$nulls":7},"支店名"]
[{"$nulls":27},"科目",{"$nulls":7},"口座番号"]
[{"$nulls":27},"口座名義フリガナ"]
[{"$nulls":27},"口座名義"]
[]
[]
[]
[]
[]
[{"$nulls":27},"小計"]
[{"$nulls":27},"消費税"]
[{"$nulls":27},"合計"]

{"sheet":"フォルテック専用請求書(提出)","index":2,"n_rows":81,"n_cols":52,"rows_kept":81,"merged":[[0,0,0,45],[1,0,2,13],[1,14,2,15],[1,16,2,17],[1,18,2,27],[1,31,1,35],[1,36,1,43],[2,31,2,35],[2,36,2,43],[3,0,3,45],[3,46,4,48],[3,49,4,50],[3,51,4,52],[4,0,4,7],[4,8,4,16],[4,19,4,21],[4,23,4,33],[4,35,4,37],[4,38,4,43],[5,0,5,7],[5,8,5,16],[5,22,5,33],[5,35,5,37],[5,38,5,43],[6,19,6,21],[6,22,6,33],[6,35,6,37],[6,38,6,43],[7,0,7,7],[7,8,7,16],[7,22,7,33],[8,22,8,33],[9,0,10,6],[9,7,10,17],[9,18,10,18],[9,19,10,22],[11,16,11,20],[12,0,12,1],[12,2,12,3],[12,4,12,12],[12,13,12,20],[12,21,12,25],[13,0,13,1],[13,2,13,3],[13,4,13,12],[13,13,13,20],[13,21,13,25],[14,0,14,1],[14,2,14,3],[14,4,14,12],[14,13,14,20],[14,21,14,25],[14,27,14,29],[15,0,15,1],[15,2,15,3],[15,4,15,12],[15,13,15,20],[15,21,15,25],[15,27,15,29],[15,30,15,34],[15,35,15,37],[15,38,15,42],[16,0,16,1],[16,2,16,3],[16,4,16,12],[16,13,16,20],[16,21,16,25],[16,27,16,29],[16,30,16,34],[16,35,16,37],[16,38,16,42],[17,0,17,1],[17,2,17,3],[17,4,17,12],[17,13,17,20],[17,21,17,25],[17,27,17,32],[17,33,17,42],[18,0,18,1],[18,2,18,3],[18,4,18,12],[18,13,18,20],[18,21,18,25],[18,27,18,32],[18,33,18,42],[19,0,19,1],[19,2,19,3],[19,4,19,12],[19,13,19,20],[19,21,19,25],[19,27,19,29],[20,0,20,1],[20,2,20,3],[20,4,20,12],[20,13,20,20],[20,21,20,25],[21,0,21,1],[21,2,21,3],[21,4,21,12],[21,13,21,20],[21,21,21,25],[22,0,22,1],[22,2,22,3],[22,4,22,12],[22,13,22,20],[22,21,22,25],[23,0,23,1],[23,2,23,3],[23,4,23,12],[23,13,23,20],[23,21,23,25],[24,0,24,1],[24,2,24,3],[24,4,24,12],[24,13,24,20],[24,21,24,25],[24,27,24,30],[24,31,24,38],[25,0,25,1],[25,2,25,3],[25,4,25,12],[25,13,25,20],[25,21,25,25],[25,27,25,30],[25,31,25,38],[26,0,26,1],[26,2,26,3],[26,4,26,12],[26,13,26,20],[26,21,26,25],[26,27,26,30],[26,31,26,38],[27,0,27,45],[28,0,29,13],[28,14,29,15],[28,16,29,17],[28,18,29,27],[28,31,28,35],[28,36,28,43],[29,31,29,35],[29,36,29,43],[30,0,30,45],[30,46,31,48],[30,49,31,50],[30,51,31,52],[31,0,31,7],[31,8,31,16],[31,23,31,33],[31,35,31,37],[31,38,31,43],[32,0,32,7],[32,8,32,16],[32,22,32,33],[32,35,32,37],[32,38,32,43],[33,19,33,21],[33,22,33,33],[33,35,33,37],[33,38,33,43],[34,0,34,7],[34,8,34,16],[36,0,37,6],[36,7,37,17],[36,18,37,18],[36,19,37,22],[38,16,38,20],[39,0,39,1],[39,2,39,3],[39,4,39,12],[39,13,39,20],[39,21,39,25],[40,0,40,1],[40,2,40,3],[40,4,40,12],[40,13,40,20],[40,21,40,25],[41,0,41,1],[41,2,41,3],[41,4,41,12],[41,13,41,20],[41,21,41,25],[41,27,41,29],[42,0,42,1],[42,2,42,3],[42,4,42,12],[42,13,42,20],[42,21,42,25],[42,27,42,29],[42,30,42,34],[42,35,42,37],[42,38,42,42],[43,0,43,1],[43,2,43,3],[43,4,43,12],[43,13,43,20],[43,21,43,25],[43,27,43,29],[43,30,43,34],[43,35,43,37],[43,38,43,42],[44,0,44,1],[44,2,44,3],[44,4,44,12],[44,13,44,20],[44,21,44,25],[44,27,44,32],[44,33,44,42],[45,0,45,1],[45,2,45,3],[45,4,45,12],[45,13,45,20],[45,21,45,25],[45,27,45,32],[45,33,45,42],[46,0,46,1],[46,2,46,3],[46,4,46,12],[46,13,46,20],[46,21,46,25],[46,27,46,29],[47,0,47,1],[47,2,47,3],[47,4,47,12],[47,13,47,20],[47,21,47,25],[48,0,48,1],[48,2,48,3],[48,4,48,12],[48,13,48,20],[48,21,48,25],[49,0,49,1],[49,2,49,3],[49,4,49,12],[49,13,49,20],[49,21,49,25],[50,0,50,1],[50,2,50,3],[50,4,50,12],[50,13,50,20],[50,21,50,25],[51,0,51,1],[51,2,51,3],[51,4,51,12],[51,13,51,20],[51,21,51,25],[51,27,51,30],[51,31,51,38],[52,0,52,1],[52,2,52,3],[52,4,52,12],[52,13,52,20],[52,21,52,25],[52,27,52,30],[52,31,52,38],[53,0,53,1],[53,2,53,3],[53,4,53,12],[53,13,53,20],[53,21,53,25],[53,27,53,30],[53,31,53,38],[54,0,54,45],[55,0,56,13],[55,14,56,15],[55,16,56,17],[55,18,56,27],[55,31,55,35],[55,36,55,43],[56,31,56,35],[56,36,56,43],[57,0,57,45],[57,46,58,48],[57,49,58,50],[57,51,58,52],[58,0,58,7],[58,8,58,16],[58,23,58,33],[58,35,58,37],[58,38,58,43],[59,0,59,7],[59,8,59,16],[59,22,59,33],[59,35,59,37],[59,38,59,43],[60,19,60,21],[60,22,60,33],[60,35,60,37],[60,38,60,43],[61,0,61,7],[61,8,61,16],[63,0,64,6],[63,7,64,17],[63,18,64,18],[63,19,64,22],[65,16,65,20],[66,0,66,1],[66,2,66,3],[66,4,66,12],[66,13,66,20],[66,21,66,25],[67,0,67,1],[67,2,67,3],[67,4,67,12],[67,13,67,20],[67,21,67,25],[68,0,68,1],[68,2,68,3],[68,4,68,12],[68,13,68,20],[68,21,68,25],[68,27,68,29],[69,0,69,1],[69,2,69,3],[69,4,69,12],[69,13,69,20],[69,21,69,25],[69,27,69,29],[69,30,69,34],[69,35,69,37],[69,38,69,42],[70,0,70,1],[70,2,70,3],[70,4,70,12],[70,13,70,20],[70,21,70,25],[70,27,70,29],[70,30,70,34],[70,35,70,37],[70,38,70,42],[71,0,71,1],[71,2,71,3],[71,4,71,12],[71,13,71,20],[71,21,71,25],[71,27,71,32],[71,33,71,42],[72,0,72,1],[72,2,72,3],[72,4,72,12],[72,13,72,20],[72,21,72,25],[72,27,72,32],[72,33,72,42],[73,0,73,1],[73,2,73,3],[73,4,73,12],[73,13,73,20],[73,21,73,25],[73,27,73,29],[74,0,74,1],[74,2,74,3],[74,4,74,12],[74,13,74,20],[74,21,74,25],[75,0,75,1],[75,2,75,3],[75,4,75,12],[75,13,75,20],[75,21,75,25],[76,0,76,1],[76,2,76,3],[76,4,76,12],[76,13,76,20],[76,21,76,25],[77,0,77,1],[77,2,77,3],[77,4,77,12],[77,13,77,20],[77,21,77,25],[78,0,78,1],[78,2,78,3],[78,4,78,12],[78,13,78,20],[78,21,78,25],[78,27,78,30],[78,31,78,38],[79,0,79,1],[79,2,79,3],[79,4,79,12],[79,13,79,20],[79,21,79,25],[79,27,79,30],[79,31,79,38],[80,0,80,1],[80,2,80,3],[80,4,80,12],[80,13,80,20],[80,21,80,25],[80,27,80,30],[80,31,80,38]]}
[]
["株式会社　フォルテック",{"$nulls":13},"御中",{"$nulls":3},"御請求書",{"$nulls":12},"事業者登録番号",{"$nulls":4},{"$f":"IF('フォルテック専用請求書(控)'!AK2:AR2=\"\",\"\",'フォルテック専用請求書(控)'!AK2:AR2)","v":""}]
[{"$nulls":31},"請求日",{"$nulls":4},{"$f":"IF('フォルテック専用請求書(控)'!AK3:AR3=\"\",\"\",'フォルテック専用請求書(控)'!AK3:AR3)","v":""}]
[{"$nulls":46},"税率",null,null,{"$f":"IF('フォルテック専用請求書(控)'!AX4:AY5=\"\",\"\",'フォルテック専用請求書(控)'!AX4:AY5)","v":10},null,"％"]
["㈱フォルテック工事担当者",{"$nulls":7},{"$f":"IF('フォルテック専用請求書(控)'!I5:Q5=\"\",\"\",'フォルテック専用請求書(控)'!I5:Q5)","v":""},{"$nulls":10},"　住所：",null,null,"〒",{"$f":"IF('フォルテック専用請求書(控)'!X5:AH5=\"\",\"\",'フォルテック専用請求書(控)'!X5:AH5)","v":""},{"$nulls":11},"TEL :",null,null,{"$f":"IF('フォルテック専用請求書(控)'!AM5:AR5=\"\",\"\",'フォルテック専用請求書(控)'!AM5:AR5)","v":""}]
["支払い条件",{"$nulls":7},{"$f":"IF('フォルテック専用請求書(控)'!I6:Q6=\"\",\"\",'フォルテック専用請求書(控)'!I6:Q6)","v":""},{"$nulls":13},{"$f":"IF('フォルテック専用請求書(控)'!W6:AH6=\"\",\"\",'フォルテック専用請求書(控)'!W6:AH6)","v":""},{"$nulls":12},"FAX :",null,null,{"$f":"IF('フォルテック専用請求書(控)'!AM6:AR6=\"\",\"\",'フォルテック専用請求書(控)'!AM6:AR6)","v":""}]
[{"$nulls":19},"会社名：",null,null,{"$f":"IF('フォルテック専用請求書(控)'!W7:AH7=\"\",\"\",'フォルテック専用請求書(控)'!W7:AH7)","v":""},{"$nulls":12},"担当者 :",null,null,{"$f":"IF('フォルテック専用請求書(控)'!AM7:AR7=\"\",\"\",'フォルテック専用請求書(控)'!AM7:AR7)","v":""}]
[{"$nulls":22},{"$f":"IF('フォルテック専用請求書(控)'!W8:AH8=\"\",\"\",'フォルテック専用請求書(控)'!W8:AH8)","v":""}]
[{"$nulls":22},{"$f":"IF('フォルテック専用請求書(控)'!W9:AH9=\"\",\"\",'フォルテック専用請求書(控)'!W9:AH9)","v":""}]
["合計金額",{"$nulls":6},{"$f":"AF27","v":{"v":0,"d":"¥0"}},{"$nulls":10},{"$f":"IF(H10=\"\",\"\",\"-\")","v":""},{"$f":"IF(AX4=\"\",\"\",\"(税込)\")","v":"(税込)"}]
[]
[{"$nulls":11},{"$f":"IF(AX4=\"\",\"\",\"(内、消費税(10％)\")","v":"(内、消費税(10％)"},{"$nulls":4},{"$f":"AF26","v":{"v":0,"d":"¥0"}},{"$nulls":4},{"$f":"IF(Q12=\"\",\"\",\"－\")","v":""},{"$f":"IF(AX4=\"\",\"\",\")\")","v":")"}]
["日付",null,"工事No.",null,"工事名",{"$nulls":8},"内容",{"$nulls":7},"金額"]
[{"$f":"IF('フォルテック専用請求書(控)'!A14:B14=\"\",\"\",'フォルテック専用請求書(控)'!A14:B14)","v":""},null,{"$f":"IF('フォルテック専用請求書(控)'!C14:D14=\"\",\"\",'フォルテック専用請求書(控)'!C14:D14)","v":""},null,{"$f":"IF('フォルテック専用請求書(控)'!E14:M14=\"\",\"\",'フォルテック専用請求書(控)'!E14:M14)","v":""},{"$nulls":8},{"$f":"IF('フォルテック専用請求書(控)'!N14:U14=\"\",\"\",'フォルテック専用請求書(控)'!N14:U14)","v":""},{"$nulls":7},{"$f":"IF('フォルテック専用請求書(控)'!V14:Z14=\"\",\"\",'フォルテック専用請求書(控)'!V14:Z14)","v":""}]
[{"$f":"IF('フォルテック専用請求書(控)'!A15:B15=\"\",\"\",'フォルテック専用請求書(控)'!A15:B15)","v":""},null,{"$f":"IF('フォルテック専用請求書(控)'!C15:D15=\"\",\"\",'フォルテック専用請求書(控)'!C15:D15)","v":""},null,{"$f":"IF('フォルテック専用請求書(控)'!E15:M15=\"\",\"\",'フォルテック専用請求書(控)'!E15:M15)","v":""},{"$nulls":8},{"$f":"IF('フォルテック専用請求書(控)'!N15:U15=\"\",\"\",'フォルテック専用請求書(控)'!N15:U15)","v":""},{"$nulls":7},{"$f":"IF('フォルテック専用請求書(控)'!V15:Z15=\"\",\"\",'フォルテック専用請求書(控)'!V15:Z15)","v":""},{"$nulls":5},"振込先",null,null,"※下記未入力があると印刷できません。"]
[{"$f":"IF('フォルテック専用請求書(控)'!A16:B16=\"\",\"\",'フォルテック専用請求書(控)'!A16:B16)","v":""},null,{"$f":"IF('フォルテック専用請求書(控)'!C16:D16=\"\",\"\",'フォルテック専用請求書(控)'!C16:D16)","v":""},null,{"$f":"IF('フォルテック専用請求書(控)'!E16:M16=\"\",\"\",'フォルテック専用請求書(控)'!E16:M16)","v":""},{"$nulls":8},{"$f":"IF('フォルテック専用請求書(控)'!N16:U16=\"\",\"\",'フォルテック専用請求書(控)'!N16:U16)","v":""},{"$nulls":7},{"$f":"IF('フォルテック専用請求書(控)'!V16:Z16=\"\",\"\",'フォルテック専用請求書(控)'!V16:Z16)","v":""},{"$nulls":5},"銀行名",null,null,{"$f":"IF('フォルテック専用請求書(控)'!AE16:AI16=\"\",\"\",'フォルテック専用請求書(控)'!AE16:AI16)","v":""},{"$nulls":4},"支店名",null,null,{"$f":"IF('フォルテック専用請求書(控)'!AM16:AQ16=\"\",\"\",'フォルテック専用請求書(控)'!AM16:AQ16)","v":""}]
[{"$f":"IF('フォルテック専用請求書(控)'!A17:B17=\"\",\"\",'フォルテック専用請求書(控)'!A17:B17)","v":""},null,{"$f":"IF('フォルテック専用請求書(控)'!C17:D17=\"\",\"\",'フォルテック専用請求書(控)'!C17:D17)","v":""},null,{"$f":"IF('フォルテック専用請求書(控)'!E17:M17=\"\",\"\",'フォルテック専用請求書(控)'!E17:M17)","v":""},{"$nulls":8},{"$f":"IF('フォルテック専用請求書(控)'!N17:U17=\"\",\"\",'フォルテック専用請求書(控)'!N17:U17)","v":""},{"$nulls":7},{"$f":"IF('フォルテック専用請求書(控)'!V17:Z17=\"\",\"\",'フォルテック専用請求書(控)'!V17:Z17)","v":""},{"$nulls":5},"科目",null,null,{"$f":"IF('フォルテック専用請求書(控)'!AE17:AI17=\"\",\"\",'フォルテック専用請求書(控)'!AE17:AI17)","v":""},{"$nulls":4},"口座番号",null,null,{"$f":"IF('フォルテック専用請求書(控)'!AM17:AQ17=\"\",\"\",'フォルテック専用請求書(控)'!AM17:AQ17)","v":""}]
[{"$f":"IF('フォルテック専用請求書(控)'!A18:B18=\"\",\"\",'フォルテック専用請求書(控)'!A18:B18)","v":""},null,{"$f":"IF('フォルテック専用請求書(控)'!C18:D18=\"\",\"\",'フォルテック専用請求書(控)'!C18:D18)","v":""},null,{"$f":"IF('フォルテック専用請求書(控)'!E18:M18=\"\",\"\",'フォルテック専用請求書(控)'!E18:M18)","v":""},{"$nulls":8},{"$f":"IF('フォルテック専用請求書(控)'!N18:U18=\"\",\"\",'フォルテック専用請求書(控)'!N18:U18)","v":""},{"$nulls":7},{"$f":"IF('フォルテック専用請求書(控)'!V18:Z18=\"\",\"\",'フォルテック専用請求書(控)'!V18:Z18)","v":""},{"$nulls":5},"口座名義フリガナ",{"$nulls":5},{"$f":"IF('フォルテック専用請求書(控)'!AH18:AL18=\"\",\"\",'フォルテック専用請求書(控)'!AH18:AL18)","v":""},{"$nulls":4},{"$f":"IF('フォルテック専用請求書(控)'!AM18:AQ18=\"\",\"\",'フォルテック専用請求書(控)'!AM18:AQ18)","v":""}]
[{"$f":"IF('フォルテック専用請求書(控)'!A19:B19=\"\",\"\",'フォルテック専用請求書(控)'!A19:B19)","v":""},null,{"$f":"IF('フォルテック専用請求書(控)'!C19:D19=\"\",\"\",'フォルテック専用請求書(控)'!C19:D19)","v":""},null,{"$f":"IF('フォルテック専用請求書(控)'!E19:M19=\"\",\"\",'フォルテック専用請求書(控)'!E19:M19)","v":""},{"$nulls":8},{"$f":"IF('フォルテック専用請求書(控)'!N19:U19=\"\",\"\",'フォルテック専用請求書(控)'!N19:U19)","v":""},{"$nulls":7},{"$f":"IF('フォルテック専用請求書(控)'!V19:Z19=\"\",\"\",'フォルテック専用請求書(控)'!V19:Z19)","v":""},{"$nulls":5},"口座名義",{"$nulls":5},{"$f":"IF('フォルテック専用請求書(控)'!AH19:AL19=\"\",\"\",'フォルテック専用請求書(控)'!AH19:AL19)","v":""},{"$nulls":4},{"$f":"IF('フォルテック専用請求書(控)'!AM19:AQ19=\"\",\"\",'フォルテック専用請求書(控)'!AM19:AQ19)","v":""}]
[{"$f":"IF('フォルテック専用請求書(控)'!A20:B20=\"\",\"\",'フォルテック専用請求書(控)'!A20:B20)","v":""},null,{"$f":"IF('フォルテック専用請求書(控)'!C20:D20=\"\",\"\",'フォルテック専用請求書(控)'!C20:D20)","v":""},null,{"$f":"IF('フォルテック専用請求書(控)'!E20:M20=\"\",\"\",'フォルテック専用請求書(控)'!E20:M20)","v":""},{"$nulls":8},{"$f":"IF('フォルテック専用請求書(控)'!N20:U20=\"\",\"\",'フォルテック専用請求書(控)'!N20:U20)","v":""},{"$nulls":7},{"$f":"IF('フォルテック専用請求書(控)'!V20:Z20=\"\",\"\",'フォルテック専用請求書(控)'!V20:Z20)","v":""}]
[{"$f":"IF('フォルテック専用請求書(控)'!A21:B21=\"\",\"\",'フォルテック専用請求書(控)'!A21:B21)","v":""},null,{"$f":"IF('フォルテック専用請求書(控)'!C21:D21=\"\",\"\",'フォルテック専用請求書(控)'!C21:D21)","v":""},null,{"$f":"IF('フォルテック専用請求書(控)'!E21:M21=\"\",\"\",'フォルテック専用請求書(控)'!E21:M21)","v":""},{"$nulls":8},{"$f":"IF('フォルテック専用請求書(控)'!N21:U21=\"\",\"\",'フォルテック専用請求書(控)'!N21:U21)","v":""},{"$nulls":7},{"$f":"IF('フォルテック専用請求書(控)'!V21:Z21=\"\",\"\",'フォルテック専用請求書(控)'!V21:Z21)","v":""}]
[{"$f":"IF('フォルテック専用請求書(控)'!A22:B22=\"\",\"\",'フォルテック専用請求書(控)'!A22:B22)","v":""},null,{"$f":"IF('フォルテック専用請求書(控)'!C22:D22=\"\",\"\",'フォルテック専用請求書(控)'!C22:D22)","v":""},null,{"$f":"IF('フォルテック専用請求書(控)'!E22:M22=\"\",\"\",'フォルテック専用請求書(控)'!E22:M22)","v":""},{"$nulls":8},{"$f":"IF('フォルテック専用請求書(控)'!N22:U22=\"\",\"\",'フォルテック専用請求書(控)'!N22:U22)","v":""},{"$nulls":7},{"$f":"IF('フォルテック専用請求書(控)'!V22:Z22=\"\",\"\",'フォルテック専用請求書(控)'!V22:Z22)","v":""}]
[{"$f":"IF('フォルテック専用請求書(控)'!A23:B23=\"\",\"\",'フォルテック専用請求書(控)'!A23:B23)","v":""},null,{"$f":"IF('フォルテック専用請求書(控)'!C23:D23=\"\",\"\",'フォルテック専用請求書(控)'!C23:D23)","v":""},null,{"$f":"IF('フォルテック専用請求書(控)'!E23:M23=\"\",\"\",'フォルテック専用請求書(控)'!E23:M23)","v":""},{"$nulls":8},{"$f":"IF('フォルテック専用請求書(控)'!N23:U23=\"\",\"\",'フォルテック専用請求書(控)'!N23:U23)","v":""},{"$nulls":7},{"$f":"IF('フォルテック専用請求書(控)'!V23:Z23=\"\",\"\",'フォルテック専用請求書(控)'!V23:Z23)","v":""}]
[{"$f":"IF('フォルテック専用請求書(控)'!A24:B24=\"\",\"\",'フォルテック専用請求書(控)'!A24:B24)","v":""},null,{"$f":"IF('フォルテック専用請求書(控)'!C24:D24=\"\",\"\",'フォルテック専用請求書(控)'!C24:D24)","v":""},null,{"$f":"IF('フォルテック専用請求書(控)'!E24:M24=\"\",\"\",'フォルテック専用請求書(控)'!E24:M24)","v":""},{"$nulls":8},{"$f":"IF('フォルテック専用請求書(控)'!N24:U24=\"\",\"\",'フォルテック専用請求書(控)'!N24:U24)","v":""},{"$nulls":7},{"$f":"IF('フォルテック専用請求書(控)'!V24:Z24=\"\",\"\",'フォルテック専用請求書(控)'!V24:Z24)","v":""}]
[{"$f":"IF('フォルテック専用請求書(控)'!A25:B25=\"\",\"\",'フォルテック専用請求書(控)'!A25:B25)","v":""},null,{"$f":"IF('フォルテック専用請求書(控)'!C25:D25=\"\",\"\",'フォルテック専用請求書(控)'!C25:D25)","v":""},null,{"$f":"IF('フォルテック専用請求書(控)'!E25:M25=\"\",\"\",'フォルテック専用請求書(控)'!E25:M25)","v":""},{"$nulls":8},{"$f":"IF('フォルテック専用請求書(控)'!N25:U25=\"\",\"\",'フォルテック専用請求書(控)'!N25:U25)","v":""},{"$nulls":7},{"$f":"IF('フォルテック専用請求書(控)'!V25:Z25=\"\",\"\",'フォルテック専用請求書(控)'!V25:Z25)","v":""},{"$nulls":5},"小計",{"$nulls":3},{"$f":"IF(SUM(V14:Z27)+SUM(V41:Z54)+SUM(V68:Z81)=0,\"\",SUM(V14:Z27)+SUM(V41:Z54)+SUM(V68:Z81))","v":""}]
[{"$f":"IF('フォルテック専用請求書(控)'!A26:B26=\"\",\"\",'フォルテック専用請求書(控)'!A26:B26)","v":""},null,{"$f":"IF('フォルテック専用請求書(控)'!C26:D26=\"\",\"\",'フォルテック専用請求書(控)'!C26:D26)","v":""},null,{"$f":"IF('フォルテック専用請求書(控)'!E26:M26=\"\",\"\",'フォルテック専用請求書(控)'!E26:M26)","v":""},{"$nulls":8},{"$f":"IF('フォルテック専用請求書(控)'!N26:U26=\"\",\"\",'フォルテック専用請求書(控)'!N26:U26)","v":""},{"$nulls":7},{"$f":"IF('フォルテック専用請求書(控)'!V26:Z26=\"\",\"\",'フォルテック専用請求書(控)'!V26:Z26)","v":""},{"$nulls":5},"消費税",{"$nulls":3},{"$f":"INT(IF(AF25*AX4/100=0,\"\",AF25*AX4/100))","v":{"v":0,"d":"¥0"}}]
[{"$f":"IF('フォルテック専用請求書(控)'!A27:B27=\"\",\"\",'フォルテック専用請求書(控)'!A27:B27)","v":""},null,{"$f":"IF('フォルテック専用請求書(控)'!C27:D27=\"\",\"\",'フォルテック専用請求書(控)'!C27:D27)","v":""},null,{"$f":"IF('フォルテック専用請求書(控)'!E27:M27=\"\",\"\",'フォルテック専用請求書(控)'!E27:M27)","v":""},{"$nulls":8},{"$f":"IF('フォルテック専用請求書(控)'!N27:U27=\"\",\"\",'フォルテック専用請求書(控)'!N27:U27)","v":""},{"$nulls":7},{"$f":"IF('フォルテック専用請求書(控)'!V27:Z27=\"\",\"\",'フォルテック専用請求書(控)'!V27:Z27)","v":""},{"$nulls":5},"合計",{"$nulls":3},{"$f":"AF25+AF26","v":{"v":0,"d":"¥0"}}]
[]
["株式会社　フォルテック",{"$nulls":13},"御中",{"$nulls":3},"御請求書",{"$nulls":12},"事業者登録番号"]
[{"$nulls":31},"請求日"]
[]
["㈱フォルテック工事担当者",{"$nulls":18},"　 住所：",null,null,"〒",{"$f":"IF('フォルテック専用請求書(控)'!X32:AH32=\"\",\"\",'フォルテック専用請求書(控)'!X32:AH32)","v":""},{"$nulls":11},"TEL :"]
["支払い条件",{"$nulls":21},{"$f":"IF('フォルテック専用請求書(控)'!W33:AH33=\"\",\"\",'フォルテック専用請求書(控)'!W33:AH33)","v":""},{"$nulls":12},"FAX :"]
[{"$nulls":19},"会社名：",null,null,{"$f":"IF('フォルテック専用請求書(控)'!W34:AH34=\"\",\"\",'フォルテック専用請求書(控)'!W34:AH34)","v":""},{"$nulls":12},"担当者 :"]
[{"$nulls":22},{"$f":"IF('フォルテック専用請求書(控)'!W35:AH35=\"\",\"\",'フォルテック専用請求書(控)'!W35:AH35)","v":""}]
[]
[{"$nulls":18},{"$f":"IF(H37=\"\",\"\",\"-\")","v":""}]
[]
[]
["日付",null,"工事No.",null,"工事名",{"$nulls":8},"内容",{"$nulls":7},"金額"]
[{"$f":"IF('フォルテック専用請求書(控)'!A41:B41=\"\",\"\",'フォルテック専用請求書(控)'!A41:B41)","v":""},null,{"$f":"IF('フォルテック専用請求書(控)'!C41:D41=\"\",\"\",'フォルテック専用請求書(控)'!C41:D41)","v":""},null,{"$f":"IF('フォルテック専用請求書(控)'!E41:M41=\"\",\"\",'フォルテック専用請求書(控)'!E41:M41)","v":""},{"$nulls":8},{"$f":"IF('フォルテック専用請求書(控)'!N41:U41=\"\",\"\",'フォルテック専用請求書(控)'!N41:U41)","v":""},{"$nulls":7},{"$f":"IF('フォルテック専用請求書(控)'!V41:Z41=\"\",\"\",'フォルテック専用請求書(控)'!V41:Z41)","v":""}]
[{"$f":"IF('フォルテック専用請求書(控)'!A42:B42=\"\",\"\",'フォルテック専用請求書(控)'!A42:B42)","v":""},null,{"$f":"IF('フォルテック専用請求書(控)'!C42:D42=\"\",\"\",'フォルテック専用請求書(控)'!C42:D42)","v":""},null,{"$f":"IF('フォルテック専用請求書(控)'!E42:M42=\"\",\"\",'フォルテック専用請求書(控)'!E42:M42)","v":""},{"$nulls":8},{"$f":"IF('フォルテック専用請求書(控)'!N42:U42=\"\",\"\",'フォルテック専用請求書(控)'!N42:U42)","v":""},{"$nulls":7},{"$f":"IF('フォルテック専用請求書(控)'!V42:Z42=\"\",\"\",'フォルテック専用請求書(控)'!V42:Z42)","v":""}]
[{"$f":"IF('フォルテック専用請求書(控)'!A43:B43=\"\",\"\",'フォルテック専用請求書(控)'!A43:B43)","v":""},null,{"$f":"IF('フォルテック専用請求書(控)'!C43:D43=\"\",\"\",'フォルテック専用請求書(控)'!C43:D43)","v":""},null,{"$f":"IF('フォルテック専用請求書(控)'!E43:M43=\"\",\"\",'フォルテック専用請求書(控)'!E43:M43)","v":""},{"$nulls":8},{"$f":"IF('フォルテック専用請求書(控)'!N43:U43=\"\",\"\",'フォルテック専用請求書(控)'!N43:U43)","v":""},{"$nulls":7},{"$f":"IF('フォルテック専用請求書(控)'!V43:Z43=\"\",\"\",'フォルテック専用請求書(控)'!V43:Z43)","v":""},{"$nulls":5},"銀行名",{"$nulls":7},"支店名"]
[{"$f":"IF('フォルテック専用請求書(控)'!A44:B44=\"\",\"\",'フォルテック専用請求書(控)'!A44:B44)","v":""},null,{"$f":"IF('フォルテック専用請求書(控)'!C44:D44=\"\",\"\",'フォルテック専用請求書(控)'!C44:D44)","v":""},null,{"$f":"IF('フォルテック専用請求書(控)'!E44:M44=\"\",\"\",'フォルテック専用請求書(控)'!E44:M44)","v":""},{"$nulls":8},{"$f":"IF('フォルテック専用請求書(控)'!N44:U44=\"\",\"\",'フォルテック専用請求書(控)'!N44:U44)","v":""},{"$nulls":7},{"$f":"IF('フォルテック専用請求書(控)'!V44:Z44=\"\",\"\",'フォルテック専用請求書(控)'!V44:Z44)","v":""},{"$nulls":5},"科目",{"$nulls":7},"口座番号"]
[{"$f":"IF('フォルテック専用請求書(控)'!A45:B45=\"\",\"\",'フォルテック専用請求書(控)'!A45:B45)","v":""},null,{"$f":"IF('フォルテック専用請求書(控)'!C45:D45=\"\",\"\",'フォルテック専用請求書(控)'!C45:D45)","v":""},null,{"$f":"IF('フォルテック専用請求書(控)'!E45:M45=\"\",\"\",'フォルテック専用請求書(控)'!E45:M45)","v":""},{"$nulls":8},{"$f":"IF('フォルテック専用請求書(控)'!N45:U45=\"\",\"\",'フォルテック専用請求書(控)'!N45:U45)","v":""},{"$nulls":7},{"$f":"IF('フォルテック専用請求書(控)'!V45:Z45=\"\",\"\",'フォルテック専用請求書(控)'!V45:Z45)","v":""},{"$nulls":5},"口座名義フリガナ"]
[{"$f":"IF('フォルテック専用請求書(控)'!A46:B46=\"\",\"\",'フォルテック専用請求書(控)'!A46:B46)","v":""},null,{"$f":"IF('フォルテック専用請求書(控)'!C46:D46=\"\",\"\",'フォルテック専用請求書(控)'!C46:D46)","v":""},null,{"$f":"IF('フォルテック専用請求書(控)'!E46:M46=\"\",\"\",'フォルテック専用請求書(控)'!E46:M46)","v":""},{"$nulls":8},{"$f":"IF('フォルテック専用請求書(控)'!N46:U46=\"\",\"\",'フォルテック専用請求書(控)'!N46:U46)","v":""},{"$nulls":7},{"$f":"IF('フォルテック専用請求書(控)'!V46:Z46=\"\",\"\",'フォルテック専用請求書(控)'!V46:Z46)","v":""},{"$nulls":5},"口座名義"]
[{"$f":"IF('フォルテック専用請求書(控)'!A47:B47=\"\",\"\",'フォルテック専用請求書(控)'!A47:B47)","v":""},null,{"$f":"IF('フォルテック専用請求書(控)'!C47:D47=\"\",\"\",'フォルテック専用請求書(控)'!C47:D47)","v":""},null,{"$f":"IF('フォルテック専用請求書(控)'!E47:M47=\"\",\"\",'フォルテック専用請求書(控)'!E47:M47)","v":""},{"$nulls":8},{"$f":"IF('フォルテック専用請求書(控)'!N47:U47=\"\",\"\",'フォルテック専用請求書(控)'!N47:U47)","v":""},{"$nulls":7},{"$f":"IF('フォルテック専用請求書(控)'!V47:Z47=\"\",\"\",'フォルテック専用請求書(控)'!V47:Z47)","v":""}]
[{"$f":"IF('フォルテック専用請求書(控)'!A48:B48=\"\",\"\",'フォルテック専用請求書(控)'!A48:B48)","v":""},null,{"$f":"IF('フォルテック専用請求書(控)'!C48:D48=\"\",\"\",'フォルテック専用請求書(控)'!C48:D48)","v":""},null,{"$f":"IF('フォルテック専用請求書(控)'!E48:M48=\"\",\"\",'フォルテック専用請求書(控)'!E48:M48)","v":""},{"$nulls":8},{"$f":"IF('フォルテック専用請求書(控)'!N48:U48=\"\",\"\",'フォルテック専用請求書(控)'!N48:U48)","v":""},{"$nulls":7},{"$f":"IF('フォルテック専用請求書(控)'!V48:Z48=\"\",\"\",'フォルテック専用請求書(控)'!V48:Z48)","v":""}]
[{"$f":"IF('フォルテック専用請求書(控)'!A49:B49=\"\",\"\",'フォルテック専用請求書(控)'!A49:B49)","v":""},null,{"$f":"IF('フォルテック専用請求書(控)'!C49:D49=\"\",\"\",'フォルテック専用請求書(控)'!C49:D49)","v":""},null,{"$f":"IF('フォルテック専用請求書(控)'!E49:M49=\"\",\"\",'フォルテック専用請求書(控)'!E49:M49)","v":""},{"$nulls":8},{"$f":"IF('フォルテック専用請求書(控)'!N49:U49=\"\",\"\",'フォルテック専用請求書(控)'!N49:U49)","v":""},{"$nulls":7},{"$f":"IF('フォルテック専用請求書(控)'!V49:Z49=\"\",\"\",'フォルテック専用請求書(控)'!V49:Z49)","v":""}]
[{"$f":"IF('フォルテック専用請求書(控)'!A50:B50=\"\",\"\",'フォルテック専用請求書(控)'!A50:B50)","v":""},null,{"$f":"IF('フォルテック専用請求書(控)'!C50:D50=\"\",\"\",'フォルテック専用請求書(控)'!C50:D50)","v":""},null,{"$f":"IF('フォルテック専用請求書(控)'!E50:M50=\"\",\"\",'フォルテック専用請求書(控)'!E50:M50)","v":""},{"$nulls":8},{"$f":"IF('フォルテック専用請求書(控)'!N50:U50=\"\",\"\",'フォルテック専用請求書(控)'!N50:U50)","v":""},{"$nulls":7},{"$f":"IF('フォルテック専用請求書(控)'!V50:Z50=\"\",\"\",'フォルテック専用請求書(控)'!V50:Z50)","v":""}]
[{"$f":"IF('フォルテック専用請求書(控)'!A51:B51=\"\",\"\",'フォルテック専用請求書(控)'!A51:B51)","v":""},null,{"$f":"IF('フォルテック専用請求書(控)'!C51:D51=\"\",\"\",'フォルテック専用請求書(控)'!C51:D51)","v":""},null,{"$f":"IF('フォルテック専用請求書(控)'!E51:M51=\"\",\"\",'フォルテック専用請求書(控)'!E51:M51)","v":""},{"$nulls":8},{"$f":"IF('フォルテック専用請求書(控)'!N51:U51=\"\",\"\",'フォルテック専用請求書(控)'!N51:U51)","v":""},{"$nulls":7},{"$f":"IF('フォルテック専用請求書(控)'!V51:Z51=\"\",\"\",'フォルテック専用請求書(控)'!V51:Z51)","v":""}]
[{"$f":"IF('フォルテック専用請求書(控)'!A52:B52=\"\",\"\",'フォルテック専用請求書(控)'!A52:B52)","v":""},null,{"$f":"IF('フォルテック専用請求書(控)'!C52:D52=\"\",\"\",'フォルテック専用請求書(控)'!C52:D52)","v":""},null,{"$f":"IF('フォルテック専用請求書(控)'!E52:M52=\"\",\"\",'フォルテック専用請求書(控)'!E52:M52)","v":""},{"$nulls":8},{"$f":"IF('フォルテック専用請求書(控)'!N52:U52=\"\",\"\",'フォルテック専用請求書(控)'!N52:U52)","v":""},{"$nulls":7},{"$f":"IF('フォルテック専用請求書(控)'!V52:Z52=\"\",\"\",'フォルテック専用請求書(控)'!V52:Z52)","v":""},{"$nulls":5},"小計"]
[{"$f":"IF('フォルテック専用請求書(控)'!A53:B53=\"\",\"\",'フォルテック専用請求書(控)'!A53:B53)","v":""},null,{"$f":"IF('フォルテック専用請求書(控)'!C53:D53=\"\",\"\",'フォルテック専用請求書(控)'!C53:D53)","v":""},null,{"$f":"IF('フォルテック専用請求書(控)'!E53:M53=\"\",\"\",'フォルテック専用請求書(控)'!E53:M53)","v":""},{"$nulls":8},{"$f":"IF('フォルテック専用請求書(控)'!N53:U53=\"\",\"\",'フォルテック専用請求書(控)'!N53:U53)","v":""},{"$nulls":7},{"$f":"IF('フォルテック専用請求書(控)'!V53:Z53=\"\",\"\",'フォルテック専用請求書(控)'!V53:Z53)","v":""},{"$nulls":5},"消費税"]
[{"$f":"IF('フォルテック専用請求書(控)'!A54:B54=\"\",\"\",'フォルテック専用請求書(控)'!A54:B54)","v":""},null,{"$f":"IF('フォルテック専用請求書(控)'!C54:D54=\"\",\"\",'フォルテック専用請求書(控)'!C54:D54)","v":""},null,{"$f":"IF('フォルテック専用請求書(控)'!E54:M54=\"\",\"\",'フォルテック専用請求書(控)'!E54:M54)","v":""},{"$nulls":8},{"$f":"IF('フォルテック専用請求書(控)'!N54:U54=\"\",\"\",'フォルテック専用請求書(控)'!N54:U54)","v":""},{"$nulls":7},{"$f":"IF('フォルテック専用請求書(控)'!V54:Z54=\"\",\"\",'フォルテック専用請求書(控)'!V54:Z54)","v":""},{"$nulls":5},"合計"]
[]
["株式会社　フォルテック",{"$nulls":13},"御中",{"$nulls":3},"御請求書",{"$nulls":12},"事業者登録番号"]
[{"$nulls":31},"請求日"]
[]
["㈱フォルテック工事担当者",{"$nulls":18},"　 住所：",null,null,"〒",{"$f":"IF('フォルテック専用請求書(控)'!X59:AH59=\"\",\"\",'フォルテック専用請求書(控)'!X59:AH59)","v":""},{"$nulls":11},"TEL :"]
["支払い条件",{"$nulls":21},{"$f":"IF('フォルテック専用請求書(控)'!W60:AH60=\"\",\"\",'フォルテック専用請求書(控)'!W60:AH60)","v":""},{"$nulls":12},"FAX :"]
[{"$nulls":19},"会社名：",null,null,{"$f":"IF('フォルテック専用請求書(控)'!W61:AH61=\"\",\"\",'フォルテック専用請求書(控)'!W61:AH61)","v":""},{"$nulls":12},"担当者 :"]
[{"$nulls":22},{"$f":"IF('フォルテック専用請求書(控)'!W62:AH62=\"\",\"\",'フォルテック専用請求書(控)'!W62:AH62)","v":""}]
[]
[]
[]
[]
["日付",null,"工事No.",null,"工事名",{"$nulls":8},"内容",{"$nulls":7},"金額"]
[{"$f":"IF('フォルテック専用請求書(控)'!A68:B68=\"\",\"\",'フォルテック専用請求書(控)'!A68:B68)","v":""},null,{"$f":"IF('フォルテック専用請求書(控)'!C68:D68=\"\",\"\",'フォルテック専用請求書(控)'!C68:D68)","v":""},null,{"$f":"IF('フォルテック専用請求書(控)'!E68:M68=\"\",\"\",'フォルテック専用請求書(控)'!E68:M68)","v":""},{"$nulls":8},{"$f":"IF('フォルテック専用請求書(控)'!N68:U68=\"\",\"\",'フォルテック専用請求書(控)'!N68:U68)","v":""},{"$nulls":7},{"$f":"IF('フォルテック専用請求書(控)'!V68:Z68=\"\",\"\",'フォルテック専用請求書(控)'!V68:Z68)","v":""}]
[{"$f":"IF('フォルテック専用請求書(控)'!A69:B69=\"\",\"\",'フォルテック専用請求書(控)'!A69:B69)","v":""},null,{"$f":"IF('フォルテック専用請求書(控)'!C69:D69=\"\",\"\",'フォルテック専用請求書(控)'!C69:D69)","v":""},null,{"$f":"IF('フォルテック専用請求書(控)'!E69:M69=\"\",\"\",'フォルテック専用請求書(控)'!E69:M69)","v":""},{"$nulls":8},{"$f":"IF('フォルテック専用請求書(控)'!N69:U69=\"\",\"\",'フォルテック専用請求書(控)'!N69:U69)","v":""},{"$nulls":7},{"$f":"IF('フォルテック専用請求書(控)'!V69:Z69=\"\",\"\",'フォルテック専用請求書(控)'!V69:Z69)","v":""}]
[{"$f":"IF('フォルテック専用請求書(控)'!A70:B70=\"\",\"\",'フォルテック専用請求書(控)'!A70:B70)","v":""},null,{"$f":"IF('フォルテック専用請求書(控)'!C70:D70=\"\",\"\",'フォルテック専用請求書(控)'!C70:D70)","v":""},null,{"$f":"IF('フォルテック専用請求書(控)'!E70:M70=\"\",\"\",'フォルテック専用請求書(控)'!E70:M70)","v":""},{"$nulls":8},{"$f":"IF('フォルテック専用請求書(控)'!N70:U70=\"\",\"\",'フォルテック専用請求書(控)'!N70:U70)","v":""},{"$nulls":7},{"$f":"IF('フォルテック専用請求書(控)'!V70:Z70=\"\",\"\",'フォルテック専用請求書(控)'!V70:Z70)","v":""},{"$nulls":5},"銀行名",{"$nulls":7},"支店名"]
[{"$f":"IF('フォルテック専用請求書(控)'!A71:B71=\"\",\"\",'フォルテック専用請求書(控)'!A71:B71)","v":""},null,{"$f":"IF('フォルテック専用請求書(控)'!C71:D71=\"\",\"\",'フォルテック専用請求書(控)'!C71:D71)","v":""},null,{"$f":"IF('フォルテック専用請求書(控)'!E71:M71=\"\",\"\",'フォルテック専用請求書(控)'!E71:M71)","v":""},{"$nulls":8},{"$f":"IF('フォルテック専用請求書(控)'!N71:U71=\"\",\"\",'フォルテック専用請求書(控)'!N71:U71)","v":""},{"$nulls":7},{"$f":"IF('フォルテック専用請求書(控)'!V71:Z71=\"\",\"\",'フォルテック専用請求書(控)'!V71:Z71)","v":""},{"$nulls":5},"科目",{"$nulls":7},"口座番号"]
[{"$f":"IF('フォルテック専用請求書(控)'!A72:B72=\"\",\"\",'フォルテック専用請求書(控)'!A72:B72)","v":""},null,{"$f":"IF('フォルテック専用請求書(控)'!C72:D72=\"\",\"\",'フォルテック専用請求書(控)'!C72:D72)","v":""},null,{"$f":"IF('フォルテック専用請求書(控)'!E72:M72=\"\",\"\",'フォルテック専用請求書(控)'!E72:M72)","v":""},{"$nulls":8},{"$f":"IF('フォルテック専用請求書(控)'!N72:U72=\"\",\"\",'フォルテック専用請求書(控)'!N72:U72)","v":""},{"$nulls":7},{"$f":"IF('フォルテック専用請求書(控)'!V72:Z72=\"\",\"\",'フォルテック専用請求書(控)'!V72:Z72)","v":""},{"$nulls":5},"口座名義フリガナ"]
[{"$f":"IF('フォルテック専用請求書(控)'!A73:B73=\"\",\"\",'フォルテック専用請求書(控)'!A73:B73)","v":""},null,{"$f":"IF('フォルテック専用請求書(控)'!C73:D73=\"\",\"\",'フォルテック専用請求書(控)'!C73:D73)","v":""},null,{"$f":"IF('フォルテック専用請求書(控)'!E73:M73=\"\",\"\",'フォルテック専用請求書(控)'!E73:M73)","v":""},{"$nulls":8},{"$f":"IF('フォルテック専用請求書(控)'!N73:U73=\"\",\"\",'フォルテック専用請求書(控)'!N73:U73)","v":""},{"$nulls":7},{"$f":"IF('フォルテック専用請求書(控)'!V73:Z73=\"\",\"\",'フォルテック専用請求書(控)'!V73:Z73)","v":""},{"$nulls":5},"口座名義"]
[{"$f":"IF('フォルテック専用請求書(控)'!A74:B74=\"\",\"\",'フォルテック専用請求書(控)'!A74:B74)","v":""},null,{"$f":"IF('フォルテック専用請求書(控)'!C74:D74=\"\",\"\",'フォルテック専用請求書(控)'!C74:D74)","v":""},null,{"$f":"IF('フォルテック専用請求書(控)'!E74:M74=\"\",\"\",'フォルテック専用請求書(控)'!E74:M74)","v":""},{"$nulls":8},{"$f":"IF('フォルテック専用請求書(控)'!N74:U74=\"\",\"\",'フォルテック専用請求書(控)'!N74:U74)","v":""},{"$nulls":7},{"$f":"IF('フォルテック専用請求書(控)'!V74:Z74=\"\",\"\",'フォルテック専用請求書(控)'!V74:Z74)","v":""}]
[{"$f":"IF('フォルテック専用請求書(控)'!A75:B75=\"\",\"\",'フォルテック専用請求書(控)'!A75:B75)","v":""},null,{"$f":"IF('フォルテック専用請求書(控)'!C75:D75=\"\",\"\",'フォルテック専用請求書(控)'!C75:D75)","v":""},null,{"$f":"IF('フォルテック専用請求書(控)'!E75:M75=\"\",\"\",'フォルテック専用請求書(控)'!E75:M75)","v":""},{"$nulls":8},{"$f":"IF('フォルテック専用請求書(控)'!N75:U75=\"\",\"\",'フォルテック専用請求書(控)'!N75:U75)","v":""},{"$nulls":7},{"$f":"IF('フォルテック専用請求書(控)'!V75:Z75=\"\",\"\",'フォルテック専用請求書(控)'!V75:Z75)","v":""}]
[{"$f":"IF('フォルテック専用請求書(控)'!A76:B76=\"\",\"\",'フォルテック専用請求書(控)'!A76:B76)","v":""},null,{"$f":"IF('フォルテック専用請求書(控)'!C76:D76=\"\",\"\",'フォルテック専用請求書(控)'!C76:D76)","v":""},null,{"$f":"IF('フォルテック専用請求書(控)'!E76:M76=\"\",\"\",'フォルテック専用請求書(控)'!E76:M76)","v":""},{"$nulls":8},{"$f":"IF('フォルテック専用請求書(控)'!N76:U76=\"\",\"\",'フォルテック専用請求書(控)'!N76:U76)","v":""},{"$nulls":7},{"$f":"IF('フォルテック専用請求書(控)'!V76:Z76=\"\",\"\",'フォルテック専用請求書(控)'!V76:Z76)","v":""}]
[{"$f":"IF('フォルテック専用請求書(控)'!A77:B77=\"\",\"\",'フォルテック専用請求書(控)'!A77:B77)","v":""},null,{"$f":"IF('フォルテック専用請求書(控)'!C77:D77=\"\",\"\",'フォルテック専用請求書(控)'!C77:D77)","v":""},null,{"$f":"IF('フォルテック専用請求書(控)'!E77:M77=\"\",\"\",'フォルテック専用請求書(控)'!E77:M77)","v":""},{"$nulls":8},{"$f":"IF('フォルテック専用請求書(控)'!N77:U77=\"\",\"\",'フォルテック専用請求書(控)'!N77:U77)","v":""},{"$nulls":7},{"$f":"IF('フォルテック専用請求書(控)'!V77:Z77=\"\",\"\",'フォルテック専用請求書(控)'!V77:Z77)","v":""}]
[{"$f":"IF('フォルテック専用請求書(控)'!A78:B78=\"\",\"\",'フォルテック専用請求書(控)'!A78:B78)","v":""},null,{"$f":"IF('フォルテック専用請求書(控)'!C78:D78=\"\",\"\",'フォルテック専用請求書(控)'!C78:D78)","v":""},null,{"$f":"IF('フォルテック専用請求書(控)'!E78:M78=\"\",\"\",'フォルテック専用請求書(控)'!E78:M78)","v":""},{"$nulls":8},{"$f":"IF('フォルテック専用請求書(控)'!N78:U78=\"\",\"\",'フォルテック専用請求書(控)'!N78:U78)","v":""},{"$nulls":7},{"$f":"IF('フォルテック専用請求書(控)'!V78:Z78=\"\",\"\",'フォルテック専用請求書(控)'!V78:Z78)","v":""}]
[{"$f":"IF('フォルテック専用請求書(控)'!A79:B79=\"\",\"\",'フォルテック専用請求書(控)'!A79:B79)","v":""},null,{"$f":"IF('フォルテック専用請求書(控)'!C79:D79=\"\",\"\",'フォルテック専用請求書(控)'!C79:D79)","v":""},null,{"$f":"IF('フォルテック専用請求書(控)'!E79:M79=\"\",\"\",'フォルテック専用請求書(控)'!E79:M79)","v":""},{"$nulls":8},{"$f":"IF('フォルテック専用請求書(控)'!N79:U79=\"\",\"\",'フォルテック専用請求書(控)'!N79:U79)","v":""},{"$nulls":7},{"$f":"IF('フォルテック専用請求書(控)'!V79:Z79=\"\",\"\",'フォルテック専用請求書(控)'!V79:Z79)","v":""},{"$nulls":5},"小計"]
[{"$f":"IF('フォルテック専用請求書(控)'!A80:B80=\"\",\"\",'フォルテック専用請求書(控)'!A80:B80)","v":""},null,{"$f":"IF('フォルテック専用請求書(控)'!C80:D80=\"\",\"\",'フォルテック専用請求書(控)'!C80:D80)","v":""},null,{"$f":"IF('フォルテック専用請求書(控)'!E80:M80=\"\",\"\",'フォルテック専用請求書(控)'!E80:M80)","v":""},{"$nulls":8},{"$f":"IF('フォルテック専用請求書(控)'!N80:U80=\"\",\"\",'フォルテック専用請求書(控)'!N80:U80)","v":""},{"$nulls":7},{"$f":"IF('フォルテック専用請求書(控)'!V80:Z80=\"\",\"\",'フォルテック専用請求書(控)'!V80:Z80)","v":""},{"$nulls":5},"消費税"]
[{"$f":"IF('フォルテック専用請求書(控)'!A81:B81=\"\",\"\",'フォルテック専用請求書(控)'!A81:B81)","v":""},null,{"$f":"IF('フォルテック専用請求書(控)'!C81:D81=\"\",\"\",'フォルテック専用請求書(控)'!C81:D81)","v":""},null,{"$f":"IF('フォルテック専用請求書(控)'!E81:M81=\"\",\"\",'フォルテック専用請求書(控)'!E81:M81)","v":""},{"$nulls":8},{"$f":"IF('フォルテック専用請求書(控)'!N81:U81=\"\",\"\",'フォルテック専用請求書(控)'!N81:U81)","v":""},{"$nulls":7},{"$f":"IF('フォルテック専用請求書(控)'!V81:Z81=\"\",\"\",'フォルテック専用請求書(控)'!V81:Z81)","v":""},{"$nulls":5},"合計"]